BEGIN:VCALENDAR
VERSION:2.0
PRODID:-//ExpressionEngine Easy iCalendar plugin//NONSGML v2.0.1//EN
X-WR-TIMEZONE:America/Chicago
X-WR-CALNAME:Upcoming Auctions
BEGIN:VEVENT
UID:157647
DTSTAMP:20260304T120000
DTSTART:20260304T120000
DTEND:20260317T180000
SUMMARY:APPLIANCES\, TOOLS & HOME IMPROVEMENT - Mondovi\, WI
LOCATION:W599 US Highway 10\, Mondovi\, WI 54755\, US
DESCRIPTION:This online auction features a wide-ranging selection of hou
 sehold\, shop\, and recreational items to suit homeowners\, con
 tractors\, and hobbyists alike. Highlights include major appl
 iances such as a 2025 Frigidaire Gallery French-door refrige
 rator\, freezers\, heaters\, dehumidifiers\, and fans\, along wit
 h safes and home comfort equipment. The lineup continues wit
 h lawn and outdoor power tools\, air compressors\, jump starte
 rs\, pressure-washer accessories\, and a strong assortment of 
 mechanic and household tool sets. Also selling are woodworki
 ng and tile tools\, clamps\, shop equipment\, electrical and ha
 rdware supplies\, rustic barn boards\, home furnishings\, bunk 
 beds\, tables\, storage furniture\, kitchen fixtures\, cutting b
 oards\, and décor. Rounding out the auction are collectible 
 toys\, themed décor\, outdoor gear\, automotive accessories\, a
 nd much more — a diverse offering with something for nearl
 y every bidder. Are You Are Handy Person\, Small Contractor\,
  Property Flipper\, Have A Home Remodel Project?  Don't Miss
  These Lots 401 - 470! 
URL:https://www.procountryauction.com/auctions/detail/bw157647
SEQUENCE:1
END:VEVENT
END:VCALENDAR