BEGIN:VCALENDAR
VERSION:2.0
PRODID:-//ExpressionEngine Easy iCalendar plugin//NONSGML v2.0.1//EN
X-WR-TIMEZONE:America/Chicago
X-WR-CALNAME:Upcoming Auctions
BEGIN:VEVENT
UID:150218
DTSTAMP:20251018T190000
DTSTART:20251018T190000
DTEND:20251102T180000
SUMMARY:40' CONTAINER\, MINI EXCAVATOR\, SKID STEER LOADERS\, TOOLS AND
  MORE! - Mondovi\, WI
LOCATION:838 State Road 37\, Mondovi\, WI 54755\, US
DESCRIPTION:From skid steer attachments to loaders\, tools\, and more — 
 we’ve got quality equipment ready to move! This is just th
 e start… not a complete listing! 40' High Cube Multi-Door 
 Shipping Container\; Landhero Hydraulic Mini Excavator\; (2) L
 andhero Mini Skid Steer Loaders\; Pallet Forks\; Metal Carport
 s\; Skid Steer Bale Spears\; Air Impact Wrenches\; Mini Skid St
 eer Pallet Fork Frames\; Leaf Blowers\; Mount Plates\; Tunnel G
 reenhouses\; Refueling Machines\; Big Arm Backhoes for Skid St
 eers\; Heavy Duty Hydraulic Forks And Frames\; Mini Skid Steer
  Grapple Buckets\; Diesel Fuel Transfer Pumps\; 7 ft Double Le
 gs Lifting Chain Slings\; Electric Winches\; Power Rakes\; Ratc
 het Binders and Chains\; Skid Steer Utility Hitch Adapter 2" 
 Receivers\; Hydraulic Grab Buckets\; 15000Lb Hydraulic Winches
 \; Skid Steer Rock Buckets\; Cast Iron Anvils\; Tree Pullers\; G
 alvanized Apex Roof Metal Sheds\; Webbing Slings\; and More! T
 his is NOT a Complete Listing.
URL:https://www.procountryauction.com/auctions/detail/bw150218
SEQUENCE:1
END:VEVENT
END:VCALENDAR