BEGIN:VCALENDAR
VERSION:2.0
PRODID:-//ExpressionEngine Easy iCalendar plugin//NONSGML v2.0.1//EN
X-WR-TIMEZONE:America/Chicago
X-WR-CALNAME:Upcoming Auctions
BEGIN:VEVENT
UID:149621
DTSTAMP:20251005T120000
DTSTART:20251005T120000
DTEND:20251021T180000
SUMMARY:VEHICLES\, TRACTORS\, MOWERS\, SILVER COINS\, NEW TOOLS AND MORE
 !  - Mondovi\, WI
LOCATION:{location}
DESCRIPTION:Over 500 Lots! Auction Features: Buhler/Farm King 1070 Grai
 n Auger on Transport\; 2010 Toyota Prius Hybrid Car\; Kairak 3
  Door Refrigerated Prep Cooler\; Allis Chalmers 720 Yard Trac
 tor\; McCormick Farmall A Cultivision Tractor\; AgriMetal Mode
 l GA110 Bedding Chopper\; 1997 Chevrolet Malibu\; Simplicity L
 awn Mower\; Toro LX460 Twin Cam Lawn Mower\; Yard Shed on Skid
 s\; Husqvarna YT46LS Lawn Mower\; Honda Fourtrax ATV\; 3- Point
  Snow Blower’ 3- Point Brush Mower\; Tractor Front End Load
 er\; 16FT Kicker Wagon\; John Deere 24T Square Baler\; John Dee
 re Spring Tooth Digger\; Ford Hydraulic Loader\; NuBilt Corn D
 ump Box on Wagon\; North Star Pull Type ATV Sprayer\; Yard Kin
 g Performance 8/27 Snowblower\; Newman’s Mfg Aluminum Snowm
 obile Trailer\; Club Car Electric Golf Cart\; Onan 30 KW PTO G
 enerator\; Refrigerators\; Freezers\; Aluminum Folding ATV Ramp
 \; Rubbermaid Poly Stock Tank\; HM Single Axle Trailer\; Galvan
 ized Vertical Hog Feeder\; Precision Lawn Sweeper\; Deezee Alu
 minum Truck Toolbox\; Loyal 38" Diameter Barn Fan\; Weed Eater
  Rear Tine Tiller\;  Silver Coins\; Band Saw\; Table Saw\; Milw
 aukee Tools\; DeWalt Tools\; LED Worklights\; Yard Tools\; Canni
 ng Jars\; Lawn & Garden Items\; Vintage Collectibles\; and Much
  More!
URL:https://www.procountryauction.com/auctions/detail/bw149621
SEQUENCE:1
END:VEVENT
END:VCALENDAR