BEGIN:VCALENDAR
VERSION:2.0
PRODID:-//ExpressionEngine Easy iCalendar plugin//NONSGML v2.0.1//EN
X-WR-TIMEZONE:America/Chicago
X-WR-CALNAME:Upcoming Auctions
BEGIN:VEVENT
UID:149416
DTSTAMP:20251001T150000
DTSTART:20251001T150000
DTEND:20251015T180000
SUMMARY:OCTOBER GUN AND AMMO - Mondovi\, WI
LOCATION:838 N State Road 37\, Mondovi\, WI 54755\, US
DESCRIPTION:Auction Features: 140+ Firearms (80 Rifles\, 45 Shotguns\, and
  24 Pistols)\, Over 125 Lots of Ammo and Other Hunting Relate
 d Items!  Some New Items!  25+ Consignors Including the Es
 tates of Richard Rude and Bill Rosenow. Some Highlights Incl
 ude: 1914 Winchester Model 1894 Rifle - Take Down\; Stevens/
 Savage Arms Model 555 12ga Shotgun\; Browing A-Bolt Medallion
  300 Win Mag Rifle\; Smith & Wesson Model 29-2 44 Magnum Revo
 lver\; Sako Forester Model L579 243 Rifle\; Remington and Sons
  Rolling Block 44-77 Rifle\; Browning BAR Grade II 338 WIN Ri
 fle – Belgium\; Remington Model 4 30-06 Rifle\; Beretta 686 
 Onyx Over/Under 12 Gauge Shotgun\; Cooper Arms Model 52 270 W
 IN Rifle\; Luger Model P08 9mm Pistol\; Remington Model 700 22
 -250 Rifle\; Browning A5 20ga Shotgun\; Winchester Model 1873 
 38 Cal Rifle\; Marlin Fire-Arms Model 92 32 Rimfire Rifle\; We
 atherby Athena Over/Under 12 Gauge Shotgun\; Sharps Replica 1
 874 45-70 Rifle\; Citadel M1-9 9mm Rifle\; Remington 700 7mm M
 agnum Rifle\; Browning A5 12ga Magnum Shotgun\; Marlin Model 1
 893 25-36 Rifle\; Palmetto Model PA-15 5.56 Rifle\; Smith & We
 sson  29-8 44 Magnum Revolver\; Marlin Model 36G 30-30 Rifle
 \; Winchester Model 94 30-30 Rifle. This auction features qua
 lity from the beginning to the end\, make sure to check them 
 out!
URL:https://www.procountryauction.com/auctions/detail/bw149416
SEQUENCE:1
END:VEVENT
END:VCALENDAR