BEGIN:VCALENDAR
VERSION:2.0
PRODID:-//ExpressionEngine Easy iCalendar plugin//NONSGML v2.0.1//EN
X-WR-TIMEZONE:America/Chicago
X-WR-CALNAME:Upcoming Auctions
BEGIN:VEVENT
UID:148887
DTSTAMP:20251006T120000
DTSTART:20251006T120000
DTEND:20251019T180000
SUMMARY:BILL'S FALL RV INVENTORY REDUCTION SALE - Mondovi\, WI
LOCATION:838 N State Rd 37\, Mondovi\, WI 54755\, US
DESCRIPTION:Adventure is calling — and so are the deals! This Wholesal
 e Inventory Reduction Auction offers an exciting lineup of c
 ampers and RVs\, ready for your next journey. Whether you’r
 e chasing the open road or relaxing at your favorite campsit
 e\, you’ll find unbeatable opportunities here. More details
  and full catalog coming soon!  Free Storage Until April 1s
 t and Delivery available for $2/Mile.  Ask for more details
  if interested. 
URL:https://www.procountryauction.com/auctions/detail/bw148887
SEQUENCE:1
END:VEVENT
END:VCALENDAR