BEGIN:VCALENDAR
VERSION:2.0
PRODID:-//ExpressionEngine Easy iCalendar plugin//NONSGML v2.0.1//EN
X-WR-TIMEZONE:America/Chicago
X-WR-CALNAME:Upcoming Auctions
BEGIN:VEVENT
UID:148578
DTSTAMP:20251004T080000
DTSTART:20251004T080000
DTEND:20251105T180000
SUMMARY:HARLEY-DAVIDSON HERITAGE: COLLECTIBLES & MEMORABILIA - St.Ch
 arles\, MN
LOCATION:373 West 1st Street\, St. Charles\, MN 55972\, US
DESCRIPTION:Step into a treasure trove of one-of-a-kind finds and rare k
 eepsakes! Featured highlights include a Wicker 3/4 Size Soft
 ail Motorcycle\, Franklin Mint pocket watches\, electric train
  sets\, pewter models\, and display cabinets full of unique co
 llectibles. But that’s not all — you’ll also discover 
 pocketknives\, belt buckles\, vintage mirrors\, Harley-themed s
 igns\, Christmas village pieces\, shot glasses\, spoons\, orname
 nts\, Barbies\, prints\, artwork\, thermometers\, lunch boxes\, cl
 ocks\, banks\, and much more! Whether you’re a Harley-Davids
 on fan\, a collector of fine memorabilia\, or just love the th
 rill of uncovering hidden gems\, this auction is packed with 
 must-have pieces you won’t find anywhere else! Don’t mis
 s out — start bidding now and claim your piece of history!
URL:https://www.procountryauction.com/auctions/detail/bw148578
SEQUENCE:1
END:VEVENT
END:VCALENDAR