BEGIN:VCALENDAR
VERSION:2.0
PRODID:-//ExpressionEngine Easy iCalendar plugin//NONSGML v2.0.1//EN
X-WR-TIMEZONE:America/Chicago
X-WR-CALNAME:Upcoming Auctions
BEGIN:VEVENT
UID:148457
DTSTAMP:20250917T120000
DTSTART:20250917T120000
DTEND:20251001T180000
SUMMARY:DURAND BAKERY EQUIPMENT AND INVENTORY - Durand\, WI
LOCATION:112 W Main Street\, Durand\, WI 54736\, US
DESCRIPTION:Hobart A-200 Commercial Stand Mixer With Attachments\; Centur
 y Dolly Giant Commercial Floor Mixer With Attachments\; Seege
 r Double Door Refrigerator And Compressor\; Acme Rol-Sheeter 
 Commercial Dough Roller\; Producer Automatic Bread Slicer\; St
 ainless Steel Sink\; Proofing Box\; Commercial Dough Divider A
 nd Rounder Machine\; Glass Display Cabinet\; Wells Donut Fryer
 \; Belshaw Bro. Cake Doughnut Depositor Type B\; Double Pan Ba
 lance Scale\; Kopykake Designer\; (2) Butcher Block Top Prep T
 ables\; Kitchen Work Table\; Wood Top Table\; Work Counter With
  Shelves\; Stainless Steel Bowl On Rolling Stand\; Montgomery 
 Ward Chest Freezer\; Gibson Commercial Chest Freezer\; Prep Co
 unter\; Serving Counter\; Bulman Paper Cutter / Dispenser\; Pol
 y Food Grade Bins On Casters\; Wood Display Carts\; Pan Storag
 e Rack On Casters\; Wilder Pan Storage Rack On Casters\; (2) T
 ray Holder On Casters\; (2) Food Transport Cabinet On Casters
 \; Frigidaire Refrigerator/Freezer\; Union Steel Bakery Rack O
 n Casters\; Exhaust Hood\; Numerous Baking Pans\, Loaf Pans And
  Cookie Cutters\; 22" Diam Mixing Bowl\; (43) Toteline Trays\; 
 (9) Stainless Steel Pans\, 25" x 9"\; (32) Stainless Steel She
 et Pans\, 26" x 18"\; (12) Stainless Steel Sheet Pan With Perf
 orated Bottom\; (85) Sheet Pans On Rolling Cart\; Numerous Str
 ap Loaf Pans On Rolling Cart\; 15" Maple Rolling Pin\; Neon Op
 en Sign\; Casio Electronic Cash Register\; And Much More!  Th
 is is NOT a Complete Listing!
URL:https://www.procountryauction.com/auctions/detail/bw148457
SEQUENCE:1
END:VEVENT
END:VCALENDAR