BEGIN:VCALENDAR
VERSION:2.0
PRODID:-//ExpressionEngine Easy iCalendar plugin//NONSGML v2.0.1//EN
X-WR-TIMEZONE:America/Chicago
X-WR-CALNAME:Upcoming Auctions
BEGIN:VEVENT
UID:147979
DTSTAMP:20250910T120000
DTSTART:20250910T120000
DTEND:20250921T180000
SUMMARY:MINI SKID STEERS\, SKID STEER ATTACHMENTS\, MASSAGE CHAIRS\, AN
 D MORE! - Mondovi\, WI
LOCATION:838 State Road 37\, Mondovi\, WI 54755\, US
DESCRIPTION:From skid steer attachments to loaders\, welders & more â€” w
 eâ€™ve gotÂ equipment ready to move! This is just the startâ
 €¦ NOT a complete listing! (2) Landhero Mini Skid Steer Load
 ers\; (4) Landhonor Massage Chair Sofas\; (10) Wolverine Palle
 t Forks Extensions\; (8) Wolverine Skid Steer Auger Drive & B
 it Attachments\; (6) Wolverine Pallet Fork Frames\; (10) Wolve
 rine Univeral Quick Attach Mount Plates\; (6) Wolverine Class
  2 Quick Hitches\; (5) Landhero Welding Machines\; (5) Wolveri
 ne 72" Skid Steer Brush Cutter Attachments\; (4) Wolverine Sk
 id Steer Trencher Attachments\; (4) Wolverine 3 Point Quick T
 aches\; (4) Wolverine Pallet Forks\, Hydraulic Adjustable\; (4)
  Wolverine 72" Skid Steer Hydraulic Rotary Tiller Attachment
 s\; (3) Landhonor Heavy Duty Plate Compactors\; (3) Wolverine 
 Skid Steer Grapple Bucket Attachments\; (2) Wolverine Skid St
 eer Ripper Attachments\; (2) Landhonor 40 Gallon 2-Stage Truc
 k Mounted Air Compressors\; (2) Wolverine Skid Steer Concrete
  Breaker Attachment\; (2) Wolverine Skid Steer Land Leveler A
 ttachments\; (2) Wolverine Skid Steer Post Drivers\; (2) Landh
 onor Air Impact Wrenches\, and MORE! This is NOT a Complete L
 isting.
URL:https://www.procountryauction.com/auctions/detail/bw147979
SEQUENCE:1
END:VEVENT
END:VCALENDAR