BEGIN:VCALENDAR
VERSION:2.0
PRODID:-//ExpressionEngine Easy iCalendar plugin//NONSGML v2.0.1//EN
X-WR-TIMEZONE:America/Chicago
X-WR-CALNAME:Upcoming Auctions
BEGIN:VEVENT
UID:147728
DTSTAMP:20250908T120000
DTSTART:20250908T120000
DTEND:20250923T180000
SUMMARY:EXCAVATORS\, FIREARMS\, SILVER COINS\, TRUCKS\, TOYS\, AND MORE! 
 - Mondovi\, WI
LOCATION:838 State Road 37\, Mondovi\, WI 54755\, US
DESCRIPTION:260+ Lots. AUCTION FEATURES: 2021 Deere 17G Mini Excavator\; 
 2024 Wright Stander ZK-3 61" Commercial Lawn Mower\; 2023 Wri
 ght Stander B 36" Commercial Lawn Mower\; 2012 Harley Davidso
 n Sportster XL1200X\; 2011 Chevy Silverado 1500 1/2 Ton 4 x 4
  Pickup Truck\; Polaris 600 XC Snowmobile\; Killbros 500 Gravi
 ty Wagon\; 10' Single Axle Trailer\; AGT MX15RX Mini Excavator
 \; 1965 Oliver 550 Tractor\; John Deere 643 Corn Head\; John De
 ere 24T Square Baler\; John Deere X300 Tractor\; 7' Snow Bucke
 t\; Large Barn Cupola With Weathervane\; New Holland 56 Hay Ra
 ke\; Cattle Gate\; 2010 GMC Sierra Nevada Edition 4x4 Truck\; K
 nappco Fuel Transfer Tank with Gas Pump\; Firearms\; Silver Co
 ins\; Bucket Milker With Lid\; Stainless Steel Patio Wet Sink 
 Prep Table\; Sears Craftsman 10" Table Saw\; True Sliding Door
  Cooler\; Eco Zone Telescoping Trouble Light\; John Deere 72 H
 ole Metal Bin\; Polar Fire Sabre Gas Power Auger\; Schwinn 21-
 Speed Bicycle\; Electric Cooler\; John Deere Pedal Tractor\; Wo
 od Slabs\; And Much More!
URL:https://www.procountryauction.com/auctions/detail/bw147728
SEQUENCE:1
END:VEVENT
END:VCALENDAR