BEGIN:VCALENDAR
VERSION:2.0
PRODID:-//ExpressionEngine Easy iCalendar plugin//NONSGML v2.0.1//EN
X-WR-TIMEZONE:America/Chicago
X-WR-CALNAME:Upcoming Auctions
BEGIN:VEVENT
UID:147405
DTSTAMP:20250830T120000
DTSTART:20250830T120000
DTEND:20250917T180000
SUMMARY:RICHARD RUDE ESTATE: VEHICLES\, CYCLES\, TOOLS\, PARTS AND MORE
   - Mondovi\, WI
LOCATION:N1194 1000th Street\, Mondovi\, WI 54755\, US
DESCRIPTION:Auction Features: 450+ Lots! 2023 Dodge Durango R/T + 4X4\; 
 2003 Jeep Liberty Sport 4x2\; 1987 Chrysler Fifth Avenue Edit
 ion\; 1989 Ford Crown Victoria LTD\; Gehl HL2600 Skidsteer\; Sy
 lvan Sea Monster 16' Aluminum Boat On Trailer\; Ski-Doo Grand
  Touring ROTAX 500 Snowmobile\; Ski-Doo Grand Touring ROTAX 
 583 Snowmobile\; Aluma-Loadmaster Snowmobile Trailer\; 1937 Pl
 ymouth 2 Door Coupe - Project Car\; Allis Chalmers B Tractor
 \; 1978 Ford F250 Custom 4 x 4 Truck With Plow\; 1979 AMF Harl
 ey Davidson Electra Glide Motorcycle\; 1959 Harley Davidson F
 LH Motorcycle\; 1979 AMF Harley Davidson Superglide Motorcycl
 e - Project Bike\; BSA Motorcycle- Project Bike\; 1979 Harley 
 Davidson Sportster Motorcycle - Parts Bike\; 1993 Ford Explor
 er 4 x 2\; John Deere S140 Lawn Mower\; Bolens Husky 1476 Lawn
  Tractor\; Heavy Duty 1 Ton Gantry Crane\; Puma 60 Gal Vertica
 l Air Compressor\; Napa Fleet 3000 Lb Floor Lift\; Connecticut
  48" Bending Metal Brake\; Craftsman 225 Amp AC Arc Welder On
  Cart\; Hobart Handler 130 Wire Feed Welder\; Cadillac AVP 2.1
  Bicycle\; Industrial Machine 80 Gal Vertical Air Compressor\;
  Airco And Cobramatic Welding Station\; Rockwell / Delta Ind
 ustrial Steel Chop Saw\; Allied 2 Ton Hydraulic Engine Hoist\;
  and More! This auction location is 10 miles southwest of E
 au Claire\, WI (Rock Falls).  This is NOT a complete listing
 .
URL:https://www.procountryauction.com/auctions/detail/bw147405
SEQUENCE:1
END:VEVENT
END:VCALENDAR