BEGIN:VCALENDAR
VERSION:2.0
PRODID:-//ExpressionEngine Easy iCalendar plugin//NONSGML v2.0.1//EN
X-WR-TIMEZONE:America/Chicago
X-WR-CALNAME:Upcoming Auctions
BEGIN:VEVENT
UID:146539
DTSTAMP:20250819T120000
DTSTART:20250819T120000
DTEND:20250903T180000
SUMMARY:TONKA to TRACTOR – COLLECTIBLE TOYS - Mondovi\, WI
LOCATION:838 N State Road 37\, Mondovi\, WI 54755\, US
DESCRIPTION:Collectible Toy Auction – 370+ Lots!  Step back in time w
 ith an incredible lineup of vintage and collectible toys! Fr
 om classic Tonka trucks\, metal tractors\, semis\, and construc
 tion equipment to a huge assortment of vintage metal vehicle
  banks—you’ll find treasures from the farm fields to the
  job sites and even the bank vault. But that’s not all—d
 on’t miss the Barbies still in their original boxes\, a tru
 e highlight for collectors! Whether you’re a serious colle
 ctor or just chasing a bit of nostalgia\, this auction is pac
 ked with must-have pieces you won’t want to miss. Bid now 
 and take home a piece of the past!
URL:https://www.procountryauction.com/auctions/detail/bw146539
SEQUENCE:1
END:VEVENT
END:VCALENDAR