BEGIN:VCALENDAR
VERSION:2.0
PRODID:-//ExpressionEngine Easy iCalendar plugin//NONSGML v2.0.1//EN
X-WR-TIMEZONE:America/Chicago
X-WR-CALNAME:Upcoming Auctions
BEGIN:VEVENT
UID:146194
DTSTAMP:20250826T120000
DTSTART:20250826T120000
DTEND:20250827T120000
SUMMARY:LOFTNESS GRAIN BAG LOADER/UNLOADER\, MF 9540 COMBINE\, MF CORN
  HEAD\, IH 7300 FLATBED TRUCK
LOCATION:838 N State Road 37\, Mondovi\, WI 54755\, US
DESCRIPTION:These Items Are Offered on Auctiontime.com:   -Loftness GB
 U Grain Bag Unloader -Loftness GBL Grain Bag Loader  -2012 
 Massey Ferguson 9540 Combine -2012 Massey Ferguson 3000 Corn
  Head -2005 International 7300 Flat Bed Truck  
URL:https://www.procountryauction.com/auctions/detail/bw146194
SEQUENCE:1
END:VEVENT
END:VCALENDAR