BEGIN:VCALENDAR
VERSION:2.0
PRODID:-//ExpressionEngine Easy iCalendar plugin//NONSGML v2.0.1//EN
X-WR-TIMEZONE:America/Chicago
X-WR-CALNAME:Upcoming Auctions
BEGIN:VEVENT
UID:145790
DTSTAMP:20250806T170000
DTSTART:20250806T170000
DTEND:20250819T180000
SUMMARY:RESTAURANT EQUIP\, SHIPPING CONTAINERS\, BOATS\, ATVS\, AND MORE
 !  - Mondovi\, WI
LOCATION:838 N State Road 37\, Mondovi\, WI 54755\, US
DESCRIPTION:Auction Features: 200+ Lots! Cuppone Michelangelo Pizza Ove
 n\; Stainless Steel Tables\; Cres Cor Proofing/Hot Cabinet\; Wi
 nston CVap Holding Cabinet\; Avantco 3 Door Refrigerated Pizz
 a Prep Table\; (2) Mirfee Stainless Steel Utility Sinks with 
 Faucets\; (2) 20' Steel Shipping Containers\; 2009 Trophy by 
 Trinity Aluminum Trailer\; Toro 650 Yard Sweeper\; 2014 Ford T
 aurus Car\; 2001 Polaris Scrambler 4x4 Four-Wheeler\; Kawasaki
  Bayou 400 4-Wheeler\; John Deere L100 Lawn Mower\; 1982 Harle
 y Davidson FXSB Sturgis Model Motorcycle\; 1991 Larson Hampto
 n Boat On Trailer\; 1989 Caravelle WR225CLB Mini Cuddy Boat O
 n Trailer\; 1992 Alumacraft Classic DLX 16FT Boat on Trailer\;
  Husqvarna Residential Z5426 Zero Turn Lawnmower\; MTD White 
 LT-13 Cruisematic Lawnmower\; Vintage Tonka Toys\; Hydraulic P
 allet Jacks\; Pallet Racking\; Jet 16- 1/2" Standing Drill Pre
 ss\; Pull Behind Motorcycle Trailer\; Tools\; Poly Boat with Mi
 nkota Electric Motor and Anchor\; T-Posts\; DeLaval Floor Buck
 ets\; Milk Cans\; Anvil\; Lumber\; Craftsman Chipper/Shredder\; 6
 ’ Ladder\; (2) Cecilware Pro by GMCW Gas Deep Fryers\; Castl
 e Gas Raised Flat Top Griddle Oven Combo\; Frigidaire Upright
  Freezer\; Stainless Steel Sinks and Tables\; Pub Tables\; Tabl
 es and Chairs\; Wire Racking\; and More!  This is NOT a compl
 ete listing.
URL:https://www.procountryauction.com/auctions/detail/bw145790
SEQUENCE:1
END:VEVENT
END:VCALENDAR