BEGIN:VCALENDAR
VERSION:2.0
PRODID:-//ExpressionEngine Easy iCalendar plugin//NONSGML v2.0.1//EN
X-WR-TIMEZONE:America/Chicago
X-WR-CALNAME:Upcoming Auctions
BEGIN:VEVENT
UID:144514
DTSTAMP:20250815T120000
DTSTART:20250815T120000
DTEND:20250827T180000
SUMMARY:AUGUST FARM AND HEAVY EQUIPMENT - Multiple Locations\, WI
LOCATION:{location}
DESCRIPTION:From the field to the road\, this auction has the tools to ke
 ep your operation moving! Bid on a Landoll 7431-29 VT Plus F
 olding Disk ready for high-performance tillage\, a dependable
  1992 International Single Axle Plow Truck\, and a powerful 1
 998 Kenworth T800 Tri-Axle Cab & Chassis built for heavy hau
 ling. Stock up with (54) Large Round Straw Bales and put an 
 International Manure Spreader to work this season. Donâ€™t m
 iss your chance to grab quality equipment at auction pricesâ
 €”your next big win is just a bid away!
URL:https://www.procountryauction.com/auctions/detail/bw144514
SEQUENCE:1
END:VEVENT
END:VCALENDAR