BEGIN:VCALENDAR
VERSION:2.0
PRODID:-//ExpressionEngine Easy iCalendar plugin//NONSGML v2.0.1//EN
X-WR-TIMEZONE:America/Chicago
X-WR-CALNAME:Upcoming Auctions
BEGIN:VEVENT
UID:144461
DTSTAMP:20250814T180000
DTSTART:20250814T180000
DTEND:20250824T180000
SUMMARY:BILL'S RV INVENTORY REDUCTION SALE - Mondovi\, WI
LOCATION:838 N State Rd 37\, Mondovi\, WI 54755\, US
DESCRIPTION:Your next adventure starts here! Bid on an incredible lineup
  of travel trailers and 5th wheels\, including a 2016 Montana
  High Country\, 2020 Keystone Passport SL Series\, Forest Rive
 r Cherokee Limited\, Keystone Sprinter\, Jayco Eagle\, and more
 . Whether you’re chasing weekend getaways or cross-country
  dreams\, there’s a camper waiting for you! Wholesale Inven
 tory Reduction Auction Features: 2016 Montana High Country\;
  2020 Keystone Passport SL Series\; 2016 Forest River Cheroke
 e Limited\; 2016 Keystone Passport Ultralite Grand Touring\; 2
 014 Keystone Sprinter\; 2000 Jayco Eagle 5th Wheel Camper\; 20
 10 Keystone Outback 5th Wheel Camper\; 2004 Keystone Laredo 5
 th Wheel Camper\; 2010 Keystone Sprinter Camper\; 2005 Jayco J
 ay Feather LGT\; 2015 Forest River Greywolf Ltmd\; 2016 Keysto
 ne Springdale Mini Summerland Series. 
URL:https://www.procountryauction.com/auctions/detail/bw144461
SEQUENCE:1
END:VEVENT
END:VCALENDAR