BEGIN:VCALENDAR
VERSION:2.0
PRODID:-//ExpressionEngine Easy iCalendar plugin//NONSGML v2.0.0//EN
X-WR-TIMEZONE:America/Chicago
X-WR-CALNAME:Upcoming Auctions
BEGIN:VEVENT
UID:138785
DTSTAMP:20250529T100000
DTSTART:20250529T100000
DTEND:20250611T180000
SUMMARY:JUNE EQUIPMENT - Multiple Locations
LOCATION:{location}
DESCRIPTION:Auction Features: 1990 Ford L9000 quad axle dump truck\; 2004
  Chev 2500HD truck\, diesel\, flatbed\; Boss Forge 1.5 aluminum
  salter\; JD 2210 compact tractor\; Knight 8118 Slinger spread
 er\; NH 900 chopper w/ NH 900 hay head\; NH 824 2-row adjustab
 le corn head\; 1994 Astoria Ind 16' livestock trailer\; H&S 86
 0 blower\; For-Most Model 150 cattle chute on trailer\; Agri-M
 etal bale chopper\; 2008 Keystone Sprinter 27 ft camper\; Knig
 ht 8110 Slinger spreader\; MF 124 square baler w/ thrower\; JD
  16A green chopper\; Bearcat green chopper\; NI 484 round bale
 r\; MF 8' double disk\; MF 3 bottom plow\; Club Car golf cart\; 
 3 pt land leveler\; (37) Anderson Silver Line windows\, new\; J
 D 6 diesel engine\, out of JD 4010 tractor\; landscaping block
 s\; and More!
URL:https://www.procountryauction.com/auctions/detail/bw138785
SEQUENCE:1
END:VEVENT
END:VCALENDAR