BEGIN:VCALENDAR
VERSION:2.0
PRODID:-//ExpressionEngine Easy iCalendar plugin//NONSGML v2.0.1//EN
X-WR-TIMEZONE:America/Chicago
X-WR-CALNAME:Upcoming Auctions
BEGIN:VEVENT
UID:131567
DTSTAMP:20250210T080000
DTSTART:20250210T080000
DTEND:20250226T180000
SUMMARY:JD TRACTORS\, FARM EQUIPMENT\, AND OTHER PERSONAL PROPERTY - F
 ountain City\, WI
LOCATION:W499 Baures Lane\, Fountain City\, WI 54629\, US
DESCRIPTION:NOTE:  Jerry enjoyed farming on the family farm in Bluff Si
 ding\, where he poured his heart into the land and its operat
 ions. He also had a passion for attending auctions\, where he
  acquired unique items from days gone by. In addition to far
 ming\, Jerry dedicated 46 years of his career as a welder and
  engineer at Warner Sasey/Badger Equipment in Winona\, MN.  
 The tractors and equipment featured in this auction were use
 d on Jerry’s farm and have been cared for. This auction in
 cludes modern and vintage equipment\, offering something for 
 every enthusiast and farmer.  Don’t miss this opportunity
  to bid on a fantastic selection of items from Jerry’s wel
 l-maintained farm!  This auction is 40 miles north of La Cr
 osse\, WI\, or 6 miles northeast of Winona\, MN.
URL:https://www.procountryauction.com/auctions/detail/bw131567
SEQUENCE:1
END:VEVENT
END:VCALENDAR